BEGIN:VCALENDAR
VERSION:2.0
PRODID:-//Evita Lokaal - ECPv6.15.16//NONSGML v1.0//EN
CALSCALE:GREGORIAN
METHOD:PUBLISH
X-WR-CALNAME:Evita Lokaal
X-ORIGINAL-URL:https://evitalokaal.nl
X-WR-CALDESC:Activiteiten voor Evita Lokaal
REFRESH-INTERVAL;VALUE=DURATION:PT1H
X-Robots-Tag:noindex
X-PUBLISHED-TTL:PT1H
BEGIN:VTIMEZONE
TZID:Europe/Amsterdam
BEGIN:DAYLIGHT
TZOFFSETFROM:+0100
TZOFFSETTO:+0200
TZNAME:CEST
DTSTART:20240331T010000
END:DAYLIGHT
BEGIN:STANDARD
TZOFFSETFROM:+0200
TZOFFSETTO:+0100
TZNAME:CET
DTSTART:20241027T010000
END:STANDARD
BEGIN:DAYLIGHT
TZOFFSETFROM:+0100
TZOFFSETTO:+0200
TZNAME:CEST
DTSTART:20250330T010000
END:DAYLIGHT
BEGIN:STANDARD
TZOFFSETFROM:+0200
TZOFFSETTO:+0100
TZNAME:CET
DTSTART:20251026T010000
END:STANDARD
BEGIN:DAYLIGHT
TZOFFSETFROM:+0100
TZOFFSETTO:+0200
TZNAME:CEST
DTSTART:20260329T010000
END:DAYLIGHT
BEGIN:STANDARD
TZOFFSETFROM:+0200
TZOFFSETTO:+0100
TZNAME:CET
DTSTART:20261025T010000
END:STANDARD
BEGIN:DAYLIGHT
TZOFFSETFROM:+0100
TZOFFSETTO:+0200
TZNAME:CEST
DTSTART:20270328T010000
END:DAYLIGHT
BEGIN:STANDARD
TZOFFSETFROM:+0200
TZOFFSETTO:+0100
TZNAME:CET
DTSTART:20271031T010000
END:STANDARD
END:VTIMEZONE
BEGIN:VEVENT
DTSTART;TZID=Europe/Amsterdam:20260420T180000
DTEND;TZID=Europe/Amsterdam:20260420T200000
DTSTAMP:20260424T105535
CREATED:20251022T112719Z
LAST-MODIFIED:20260417T081821Z
UID:10003859-1776708000-1776715200@evitalokaal.nl
SUMMARY:Pan op Tafel
DESCRIPTION:Elke vierde maandag van de maand bent u welkom bij Pan op Tafel. Onze vrijwillige koks serveren een gezonde en versbereide maaltijd\, afgesloten met een lekker dessert. Samen eten zorgt voor gezelligheid en de mogelijkheid om anderen te ontmoeten. De kosten voor de Pan op Tafel bedragen €8\,50 excl. drankjes. \nWilt u ook gezellig mee-eten? U bent van harte welkom om aan te schuiven bij De Pan op Tafel!
URL:https://evitalokaal.nl/activiteit/pan-op-tafel-2/2026-04-20/
LOCATION:Evita Lokaal\, Van Alkemadelaan 309 A
CATEGORIES:Samen eten
ATTACH;FMTTYPE=image/jpeg:https://evitalokaal.nl/wp-content/uploads/2025/10/vrijwilliger-serveert-bij-de-maaltijd-scaled.jpg
ORGANIZER;CN="Evita Lokaal":MAILTO:info@evitalokaal.nl
END:VEVENT
BEGIN:VEVENT
DTSTART;TZID=Europe/Amsterdam:20260323T180000
DTEND;TZID=Europe/Amsterdam:20260323T200000
DTSTAMP:20260424T105535
CREATED:20251022T112719Z
LAST-MODIFIED:20260417T081821Z
UID:10002216-1774288800-1774296000@evitalokaal.nl
SUMMARY:Pan op Tafel
DESCRIPTION:Elke vierde maandag van de maand bent u welkom bij Pan op Tafel. Onze vrijwillige koks serveren een gezonde en versbereide maaltijd\, afgesloten met een lekker dessert. Samen eten zorgt voor gezelligheid en de mogelijkheid om anderen te ontmoeten. De kosten voor de Pan op Tafel bedragen €8\,50 excl. drankjes. \nWilt u ook gezellig mee-eten? U bent van harte welkom om aan te schuiven bij De Pan op Tafel!
URL:https://evitalokaal.nl/activiteit/pan-op-tafel-2/2026-03-23/
LOCATION:Evita Lokaal\, Van Alkemadelaan 309 A
CATEGORIES:Samen eten
ATTACH;FMTTYPE=image/jpeg:https://evitalokaal.nl/wp-content/uploads/2025/10/vrijwilliger-serveert-bij-de-maaltijd-scaled.jpg
ORGANIZER;CN="Evita Lokaal":MAILTO:info@evitalokaal.nl
END:VEVENT
BEGIN:VEVENT
DTSTART;TZID=Europe/Amsterdam:20260223T180000
DTEND;TZID=Europe/Amsterdam:20260223T200000
DTSTAMP:20260424T105535
CREATED:20251022T112719Z
LAST-MODIFIED:20260417T081821Z
UID:10002215-1771869600-1771876800@evitalokaal.nl
SUMMARY:Pan op Tafel
DESCRIPTION:Elke vierde maandag van de maand bent u welkom bij Pan op Tafel. Onze vrijwillige koks serveren een gezonde en versbereide maaltijd\, afgesloten met een lekker dessert. Samen eten zorgt voor gezelligheid en de mogelijkheid om anderen te ontmoeten. De kosten voor de Pan op Tafel bedragen €8\,50 excl. drankjes. \nWilt u ook gezellig mee-eten? U bent van harte welkom om aan te schuiven bij De Pan op Tafel!
URL:https://evitalokaal.nl/activiteit/pan-op-tafel-2/2026-02-23/
LOCATION:Evita Lokaal\, Van Alkemadelaan 309 A
CATEGORIES:Samen eten
ATTACH;FMTTYPE=image/jpeg:https://evitalokaal.nl/wp-content/uploads/2025/10/vrijwilliger-serveert-bij-de-maaltijd-scaled.jpg
ORGANIZER;CN="Evita Lokaal":MAILTO:info@evitalokaal.nl
END:VEVENT
BEGIN:VEVENT
DTSTART;TZID=Europe/Amsterdam:20260213T180000
DTEND;TZID=Europe/Amsterdam:20260213T200000
DTSTAMP:20260424T105535
CREATED:20260107T154045Z
LAST-MODIFIED:20260209T145142Z
UID:10002473-1771005600-1771012800@evitalokaal.nl
SUMMARY:Valentijnsdiner
DESCRIPTION:Op 13 februari organiseren wij weer een gezellig themadiner voor wijkbewoners\, deze keer in het teken van Valentijn! Een leuke gelegenheid om met buurtgenoten te genieten van een heerlijke maaltijd en gezellige gesprekken. U bent van harte welkom om alleen te komen\, maar u mag natuurlijk ook iemand meenemen. \nIn verband met de inkopen vragen wij u om u uiterlijk maandag 9 februari op te geven. Bij afmelden binnen 24 uur voor het themadiner zijn wij genoodzaakt de kosten in rekening te brengen. \nDe kosten voor de Thema Maaltijd bedragen €15 euro incl. twee drankjes.
URL:https://evitalokaal.nl/activiteit/valentijnsdiner/
LOCATION:Evita Lokaal\, Van Alkemadelaan 309 A
CATEGORIES:Samen eten
ATTACH;FMTTYPE=image/jpeg:https://evitalokaal.nl/wp-content/uploads/2025/10/vrijwilliger-serveert-bij-de-maaltijd-scaled.jpg
ORGANIZER;CN="Evita Lokaal":MAILTO:info@evitalokaal.nl
END:VEVENT
BEGIN:VEVENT
DTSTART;TZID=Europe/Amsterdam:20260126T180000
DTEND;TZID=Europe/Amsterdam:20260126T200000
DTSTAMP:20260424T105535
CREATED:20251022T112719Z
LAST-MODIFIED:20260417T081821Z
UID:10002214-1769450400-1769457600@evitalokaal.nl
SUMMARY:Pan op Tafel
DESCRIPTION:Elke vierde maandag van de maand bent u welkom bij Pan op Tafel. Onze vrijwillige koks serveren een gezonde en versbereide maaltijd\, afgesloten met een lekker dessert. Samen eten zorgt voor gezelligheid en de mogelijkheid om anderen te ontmoeten. De kosten voor de Pan op Tafel bedragen €8\,50 excl. drankjes. \nWilt u ook gezellig mee-eten? U bent van harte welkom om aan te schuiven bij De Pan op Tafel!
URL:https://evitalokaal.nl/activiteit/pan-op-tafel-2/2026-01-26/
LOCATION:Evita Lokaal\, Van Alkemadelaan 309 A
CATEGORIES:Samen eten
ATTACH;FMTTYPE=image/jpeg:https://evitalokaal.nl/wp-content/uploads/2025/10/vrijwilliger-serveert-bij-de-maaltijd-scaled.jpg
ORGANIZER;CN="Evita Lokaal":MAILTO:info@evitalokaal.nl
END:VEVENT
BEGIN:VEVENT
DTSTART;TZID=Europe/Amsterdam:20251222T180000
DTEND;TZID=Europe/Amsterdam:20251222T200000
DTSTAMP:20260424T105535
CREATED:20251022T112719Z
LAST-MODIFIED:20260417T081821Z
UID:10002213-1766426400-1766433600@evitalokaal.nl
SUMMARY:Pan op Tafel
DESCRIPTION:Elke vierde maandag van de maand bent u welkom bij Pan op Tafel. Onze vrijwillige koks serveren een gezonde en versbereide maaltijd\, afgesloten met een lekker dessert. Samen eten zorgt voor gezelligheid en de mogelijkheid om anderen te ontmoeten. De kosten voor de Pan op Tafel bedragen €8\,50 excl. drankjes. \nWilt u ook gezellig mee-eten? U bent van harte welkom om aan te schuiven bij De Pan op Tafel!
URL:https://evitalokaal.nl/activiteit/pan-op-tafel-2/2025-12-22/
LOCATION:Evita Lokaal\, Van Alkemadelaan 309 A
CATEGORIES:Samen eten
ATTACH;FMTTYPE=image/jpeg:https://evitalokaal.nl/wp-content/uploads/2025/10/vrijwilliger-serveert-bij-de-maaltijd-scaled.jpg
ORGANIZER;CN="Evita Lokaal":MAILTO:info@evitalokaal.nl
END:VEVENT
BEGIN:VEVENT
DTSTART;TZID=Europe/Amsterdam:20251124T180000
DTEND;TZID=Europe/Amsterdam:20251124T200000
DTSTAMP:20260424T105535
CREATED:20251022T112719Z
LAST-MODIFIED:20260417T081821Z
UID:10001724-1764007200-1764014400@evitalokaal.nl
SUMMARY:Pan op Tafel
DESCRIPTION:Elke vierde maandag van de maand bent u welkom bij Pan op Tafel. Onze vrijwillige koks serveren een gezonde en versbereide maaltijd\, afgesloten met een lekker dessert. Samen eten zorgt voor gezelligheid en de mogelijkheid om anderen te ontmoeten. De kosten voor de Pan op Tafel bedragen €8\,50 excl. drankjes. \nWilt u ook gezellig mee-eten? U bent van harte welkom om aan te schuiven bij De Pan op Tafel!
URL:https://evitalokaal.nl/activiteit/pan-op-tafel-2/2025-11-24/
LOCATION:Evita Lokaal\, Van Alkemadelaan 309 A
CATEGORIES:Samen eten
ATTACH;FMTTYPE=image/jpeg:https://evitalokaal.nl/wp-content/uploads/2025/10/vrijwilliger-serveert-bij-de-maaltijd-scaled.jpg
ORGANIZER;CN="Evita Lokaal":MAILTO:info@evitalokaal.nl
END:VEVENT
END:VCALENDAR